Workbook

Sheet TemplateDE
A1: Handelsvolumen der fünf wichtigsten Handelsplätze 2018
A3: Professionelle Kunden
A7: Kategorie des Finanzinstruments
A8: Angabe, ob im Vorjahr im Durchschnitt <1 Handelsgeschäft pro Geschäftstag ausgeführt wurde | B8: Nein
A10: Die fünf Handelsplätze, die ausgehend vom Handelsvolumen am wichtigsten sind (in absteigender Reihenfolge nach Handelsvolumen) | B10: Anteil des Handeslvolumens als Prozentsatz des gesamten Volumens in dieser Kategorie | C10: Anteil der ausgeführten Aufträge als Prozentsatz aller Aufträge in dieser Kategorie | D10: Prozentsatz passiver Aufträge | E10: Prozentsatz aggressiver Aufträge | F10: Prozentsatz gelenkter Aufträge
D11: n/a | E11: n/a | F11: n/a
D12: n/a | E12: n/a | F12: n/a
D13: n/a | E13: n/a | F13: n/a
D14: n/a | E14: n/a | F14: n/a
D15: n/a | E15: n/a | F15: n/a

Sheet TemplateEN
A1: Trading volumes of top five execution venues 2018
A3: Retail clients
A7: Class of Instrument
A8: Notification if <1 average trade per business day in the previous year | B8: No
A10: Top five execution venues ranked in terms of trading volumes (descending order) | B10: Proportion of volume traded as a percentage of total in that class | C10: Proportion of orders executed as percentage of total in that class | D10: Percentage of passive orders | E10: Percentage of aggressive orders | F10: Percentage of directed orders
D11: n/a | E11: n/a | F11: n/a
D12: n/a | E12: n/a | F12: n/a
D13: n/a | E13: n/a | F13: n/a
D14: n/a | E14: n/a | F14: n/a
D15: n/a | E15: n/a | F15: n/a

Sheet RTS28_R_Aktienderivate
A1: Handelsvolumen der fünf wichtigsten Handelsplätze 2025
A3: Kleinanleger
A7: Kategorie des Finanzinstruments | B7: Aktienderivate
A8: Angabe, ob im Vorjahr im Durchschnitt <1 Handelsgeschäft pro Geschäftstag ausgeführt wurde | B8: Ja
A10: Die fünf Handelsplätze, die ausgehend vom Handelsvolumen am wichtigsten sind (in absteigender Reihenfolge nach Handelsvolumen) | B10: Anteil des Handeslvolumens als Prozentsatz des gesamten Volumens in dieser Kategorie | C10: Anteil der ausgeführten Aufträge als Prozentsatz aller Aufträge in dieser Kategorie | D10: Prozentsatz passiver Aufträge | E10: Prozentsatz aggressiver Aufträge | F10: Prozentsatz gelenkter Aufträge
A11: Options Price Reporting Authority (OPRA) | B11: 0.30605256 | C11: 0.22311396 | D11: 0.00061409827 | E11: 0.30543846 | F11: 0
A12: Eurex Frankfurt AG (XEUR) | B12: 0.028314272 | C12: 0.073836276 | D12: 0 | E12: 0.028314272 | F12: 0
A13: Hong Kong Stock Exchange, Options (XHKG) | B13: 0.00027824303 | C13: 0.0016051364 | D13: 0 | E13: 0.00027824303 | F13: 0

Sheet RTS28_R_Eigenkapitalinstrumente
A1: =RTS28_R_Aktienderivate!A1 -> Handelsvolumen der fünf wichtigsten Handelsplätze 2025
A3: Kleinanleger
A7: Kategorie des Finanzinstruments | B7: Eigenkapitalinstrumente
A8: Angabe, ob im Vorjahr im Durchschnitt <1 Handelsgeschäft pro Geschäftstag ausgeführt wurde | B8: Nein
A10: Die fünf Handelsplätze, die ausgehend vom Handelsvolumen am wichtigsten sind (in absteigender Reihenfolge nach Handelsvolumen) | B10: Anteil des Handeslvolumens als Prozentsatz des gesamten Volumens in dieser Kategorie | C10: Anteil der ausgeführten Aufträge als Prozentsatz aller Aufträge in dieser Kategorie | D10: Prozentsatz passiver Aufträge | E10: Prozentsatz aggressiver Aufträge | F10: Prozentsatz gelenkter Aufträge
A11: SIX Swiss Exchange (XSWX) | B11: 0.13112518 | C11: 0.28869779 | D11: 0.012953808 | E11: 0.11817137 | F11: 0
A12: NASDAQ (XNAS) | B12: 0.11080082 | C12: 0.081695332 | D12: 0.0075003495 | E12: 0.10330047 | F12: 0
A13: New York Stock Exchange, Inc (XNYS) | B13: 0.075650825 | C13: 0.098203317 | D13: 0.0097080237 | E13: 0.065942802 | F13: 0
A14: Xetra (XETR) | B14: 0.027276197 | C14: 0.05789312 | D14: 0.0050218808 | E14: 0.022254316 | F14: 0
A15: Euronext Amsterdam (XAMS) | B15: 0.016734131 | C15: 0.036317568 | D15: 0.0032177811 | E15: 0.01351635 | F15: 0

Sheet RTS28_R_Rohstoffderivate
A1: =RTS28_R_Aktienderivate!A1 -> Handelsvolumen der fünf wichtigsten Handelsplätze 2025
A3: Kleinanleger
A7: Kategorie des Finanzinstruments | B7: Rohstoffderivate
A8: Angabe, ob im Vorjahr im Durchschnitt <1 Handelsgeschäft pro Geschäftstag ausgeführt wurde | B8: Ja
A10: Die fünf Handelsplätze, die ausgehend vom Handelsvolumen am wichtigsten sind (in absteigender Reihenfolge nach Handelsvolumen) | B10: Anteil des Handeslvolumens als Prozentsatz des gesamten Volumens in dieser Kategorie | C10: Anteil der ausgeführten Aufträge als Prozentsatz aller Aufträge in dieser Kategorie | D10: Prozentsatz passiver Aufträge | E10: Prozentsatz aggressiver Aufträge | F10: Prozentsatz gelenkter Aufträge
A11: n/a | B11: 0 | C11: 0 | D11: 0 | E11: 0 | F11: 0

Sheet RTS28_R_Schuldtitel
A1: =RTS28_R_Aktienderivate!A1 -> Handelsvolumen der fünf wichtigsten Handelsplätze 2025
A3: Kleinanleger
A7: Kategorie des Finanzinstruments | B7: Schuldtitel
A8: Angabe, ob im Vorjahr im Durchschnitt <1 Handelsgeschäft pro Geschäftstag ausgeführt wurde | B8: Nein
A10: Die fünf Handelsplätze, die ausgehend vom Handelsvolumen am wichtigsten sind (in absteigender Reihenfolge nach Handelsvolumen) | B10: Anteil des Handeslvolumens als Prozentsatz des gesamten Volumens in dieser Kategorie | C10: Anteil der ausgeführten Aufträge als Prozentsatz aller Aufträge in dieser Kategorie | D10: Prozentsatz passiver Aufträge | E10: Prozentsatz aggressiver Aufträge | F10: Prozentsatz gelenkter Aufträge
A11: SIX Swiss Exchange (XSWX) | B11: 0.3094529 | C11: 0.21981722 | D11: 0.001113251 | E11: 0.30833965 | F11: 0
A12: TRADEWEB EU BV - MTF (TWEM) | B12: 0.14124842 | C12: 0.27008177 | D12: 0.04211814 | E12: 0.099130285 | F12: 0
A13: TRAX (XCOR) | B13: 0.10262831 | C13: 0.15343915 | D13: 0.0083922565 | E13: 0.094236053 | F13: 0
A14: BLOOMBERG TRADING FACILITY LIMITED (BMTF) | B14: 0.015801678 | C14: 0.034632035 | D14: 0.0058907657 | E14: 0.0099109123 | F14: 0
A15: Over the Counter (XOFF) | B15: 0.0052443179 | C15: 0.00072150072 | D15: 0 | E15: 0.0052443179 | F15: 0

Sheet RTS28_R_Sonstige
A1: =RTS28_R_Aktienderivate!A1 -> Handelsvolumen der fünf wichtigsten Handelsplätze 2025
A3: Kleinanleger
A7: Kategorie des Finanzinstruments | B7: Sonstige Instrumente
A8: Angabe, ob im Vorjahr im Durchschnitt <1 Handelsgeschäft pro Geschäftstag ausgeführt wurde | B8: Nein
A10: Die fünf Handelsplätze, die ausgehend vom Handelsvolumen am wichtigsten sind (in absteigender Reihenfolge nach Handelsvolumen) | B10: Anteil des Handeslvolumens als Prozentsatz des gesamten Volumens in dieser Kategorie | C10: Anteil der ausgeführten Aufträge als Prozentsatz aller Aufträge in dieser Kategorie | D10: Prozentsatz passiver Aufträge | E10: Prozentsatz aggressiver Aufträge | F10: Prozentsatz gelenkter Aufträge
A11: NYSE Arca (ARCX) | B11: 0.087508113 | C11: 0.06234366 | D11: 0.0241845 | E11: 0.063323613 | F11: 0
A12: Tradeweb Europe Limited (TREU) | B12: 0.067215027 | C12: 0.13546277 | D12: 0.0028996022 | E12: 0.064315425 | F12: 0
A13: NASDAQ (XNAS) | B13: 0.051775018 | C13: 0.089474697 | D13: 0.0061222788 | E13: 0.045652739 | F13: 0
A14: NYSE Arca, Listed Bonds (ARCX) | B14: 0.045198872 | C14: 0.085626323 | D14: 0.0046776859 | E14: 0.040521186 | F14: 0
A15: OFF-EXCHANGE TRANSACTIONS - LISTED INSTRUMENTS (XOFF) | B15: 0.042979947 | C15: 0.071579758 | D15: 0.0011581107 | E15: 0.041821836 | F15: 0

Sheet RTS28_R_VerbriefteDerivate
A1: =RTS28_R_Aktienderivate!A1 -> Handelsvolumen der fünf wichtigsten Handelsplätze 2025
A3: Kleinanleger
A7: Kategorie des Finanzinstruments | B7: Verbriefte Derivate
A8: Angabe, ob im Vorjahr im Durchschnitt <1 Handelsgeschäft pro Geschäftstag ausgeführt wurde | B8: Ja
A10: Die fünf Handelsplätze, die ausgehend vom Handelsvolumen am wichtigsten sind (in absteigender Reihenfolge nach Handelsvolumen) | B10: Anteil des Handeslvolumens als Prozentsatz des gesamten Volumens in dieser Kategorie | C10: Anteil der ausgeführten Aufträge als Prozentsatz aller Aufträge in dieser Kategorie | D10: Prozentsatz passiver Aufträge | E10: Prozentsatz aggressiver Aufträge | F10: Prozentsatz gelenkter Aufträge
A11: New York Stock Exchange, Inc (XNYS) | B11: 0.90251584 | C11: 0.41176471 | D11: 0.88959094 | E11: 0.012924898 | F11: 0
A12: Over the Counter (XOFF) | B12: 0.072932066 | C12: 0.29411765 | D12: 0.072932066 | E12: 0 | F12: 0

Sheet RTS28_R_StrukturierteProdukte
A1: =RTS28_R_Aktienderivate!A1 -> Handelsvolumen der fünf wichtigsten Handelsplätze 2025
A3: Kleinanleger
A7: Kategorie des Finanzinstruments | B7: Strukturierte Finanzprodukte
A8: Angabe, ob im Vorjahr im Durchschnitt <1 Handelsgeschäft pro Geschäftstag ausgeführt wurde | B8: Nein
A10: Die fünf Handelsplätze, die ausgehend vom Handelsvolumen am wichtigsten sind (in absteigender Reihenfolge nach Handelsvolumen) | B10: Anteil des Handeslvolumens als Prozentsatz des gesamten Volumens in dieser Kategorie | C10: Anteil der ausgeführten Aufträge als Prozentsatz aller Aufträge in dieser Kategorie | D10: Prozentsatz passiver Aufträge | E10: Prozentsatz aggressiver Aufträge | F10: Prozentsatz gelenkter Aufträge
A11: SIX Swiss Exchange (XSWX) | B11: 0.13995217 | C11: 0.194375 | D11: 0.00017586789 | E11: 0.13977631 | F11: 0
A12: Over the Counter (XOFF) | B12: 0.10208386 | C12: 0.215 | D12: 0.017252138 | E12: 0.084831719 | F12: 0
A13: TRAX (XCOR) | B13: 0.032330611 | C13: 0.03125 | D13: 0.0038649275 | E13: 0.028465683 | F13: 0
A14: OFF-EXCHANGE TRANSACTIONS - LISTED INSTRUMENTS (XOFF) | B14: 0.03040937 | C14: 0.09 | D14: 0.0065787708 | E14: 0.023830599 | F14: 0
A15: Wiener Boerse AG (XWBO) | B15: 0.012195433 | C15: 0.008125 | D15: 0.0050072771 | E15: 0.0071881564 | F15: 0

Sheet RTS28_R_Zinsderivate
A1: =RTS28_R_Aktienderivate!A1 -> Handelsvolumen der fünf wichtigsten Handelsplätze 2025
A3: Kleinanleger
A7: Kategorie des Finanzinstruments | B7: Zinsderivate
A8: Angabe, ob im Vorjahr im Durchschnitt <1 Handelsgeschäft pro Geschäftstag ausgeführt wurde | B8: Ja
A10: Die fünf Handelsplätze, die ausgehend vom Handelsvolumen am wichtigsten sind (in absteigender Reihenfolge nach Handelsvolumen) | B10: Anteil des Handeslvolumens als Prozentsatz des gesamten Volumens in dieser Kategorie | C10: Anteil der ausgeführten Aufträge als Prozentsatz aller Aufträge in dieser Kategorie | D10: Prozentsatz passiver Aufträge | E10: Prozentsatz aggressiver Aufträge | F10: Prozentsatz gelenkter Aufträge
A11: n/a | B11: 0 | C11: 0 | D11: 0 | E11: 0 | F11: 0

Sheet RTS28_R_Währungsderivate
A1: =RTS28_R_Aktienderivate!A1 -> Handelsvolumen der fünf wichtigsten Handelsplätze 2025
A3: Kleinanleger
A7: Kategorie des Finanzinstruments | B7: Währungsderivate
A8: Angabe, ob im Vorjahr im Durchschnitt <1 Handelsgeschäft pro Geschäftstag ausgeführt wurde | B8: Nein
A10: Die fünf Handelsplätze, die ausgehend vom Handelsvolumen am wichtigsten sind (in absteigender Reihenfolge nach Handelsvolumen) | B10: Anteil des Handeslvolumens als Prozentsatz des gesamten Volumens in dieser Kategorie | C10: Anteil der ausgeführten Aufträge als Prozentsatz aller Aufträge in dieser Kategorie | D10: Prozentsatz passiver Aufträge | E10: Prozentsatz aggressiver Aufträge | F10: Prozentsatz gelenkter Aufträge
A11: Kaiser Partner Privatbank AG (529900DPOQPLDSF3R482) | B11: 0.30855448 | C11: 0.83093446 | D11: 0 | E11: 1 | F11: 0

Sheet RTS28_P_Aktienderivate
A1: =RTS28_R_Aktienderivate!A1 -> Handelsvolumen der fünf wichtigsten Handelsplätze 2025
A3: Professionelle Kunden
A7: Kategorie des Finanzinstruments | B7: Aktienderivate
A8: Angabe, ob im Vorjahr im Durchschnitt <1 Handelsgeschäft pro Geschäftstag ausgeführt wurde | B8: Nein
A10: Die fünf Handelsplätze, die ausgehend vom Handelsvolumen am wichtigsten sind (in absteigender Reihenfolge nach Handelsvolumen) | B10: Anteil des Handeslvolumens als Prozentsatz des gesamten Volumens in dieser Kategorie | C10: Anteil der ausgeführten Aufträge als Prozentsatz aller Aufträge in dieser Kategorie | D10: Prozentsatz passiver Aufträge | E10: Prozentsatz aggressiver Aufträge | F10: Prozentsatz gelenkter Aufträge
A11: Eurex Frankfurt AG (XEUR) | B11: 0.56607265 | C11: 0.17977528 | D11: 0.31652831 | E11: 0.24954434 | F11: 0
A12: Options Price Reporting Authority (OPRA) | B12: 0.099282276 | C12: 0.52166934 | D12: 0.045401574 | E12: 0.053880702 | F12: 0

Sheet RTS28_P_Eigenkapitalinstrumente
A1: =RTS28_R_Aktienderivate!A1 -> Handelsvolumen der fünf wichtigsten Handelsplätze 2025
A3: Professionelle Kunden
A7: Kategorie des Finanzinstruments | B7: Eigenkapitalinstrumente
A8: Angabe, ob im Vorjahr im Durchschnitt <1 Handelsgeschäft pro Geschäftstag ausgeführt wurde | B8: Nein
A10: Die fünf Handelsplätze, die ausgehend vom Handelsvolumen am wichtigsten sind (in absteigender Reihenfolge nach Handelsvolumen) | B10: Anteil des Handeslvolumens als Prozentsatz des gesamten Volumens in dieser Kategorie | C10: Anteil der ausgeführten Aufträge als Prozentsatz aller Aufträge in dieser Kategorie | D10: Prozentsatz passiver Aufträge | E10: Prozentsatz aggressiver Aufträge | F10: Prozentsatz gelenkter Aufträge
A11: NASDAQ (XNAS) | B11: 0.25860053 | C11: 0.025107494 | D11: 0.16881402 | E11: 0.089786507 | F11: 0
A12: New York Stock Exchange, Inc (XNYS) | B12: 0.050191814 | C12: 0.020039926 | D12: 0.032013335 | E12: 0.018178479 | F12: 0
A13: SIX Swiss Exchange (XSWX) | B13: 0.028445042 | C13: 0.039388821 | D13: 0.0013034663 | E13: 0.027141576 | F13: 0
A14: NASDAQ-UTP Cboe EDGX U.S. Equities Exchange (EDGX) | B14: 0.027945271 | C14: 0.0018427518 | D14: 0.027432485 | E14: 0.00051278606 | F14: 0
A15: NYSE Arca, Listed Bonds (ARCX) | B15: 0.014006603 | C15: 0.0019195332 | D15: 0.013708637 | E15: 0.00029796619 | F15: 0

Sheet RTS28_P_Rohstoffderivate
A1: =RTS28_R_Aktienderivate!A1 -> Handelsvolumen der fünf wichtigsten Handelsplätze 2025
A3: Professionelle Kunden
A7: Kategorie des Finanzinstruments | B7: Rohstoffderivate
A8: Angabe, ob im Vorjahr im Durchschnitt <1 Handelsgeschäft pro Geschäftstag ausgeführt wurde | B8: Ja
A10: Die fünf Handelsplätze, die ausgehend vom Handelsvolumen am wichtigsten sind (in absteigender Reihenfolge nach Handelsvolumen) | B10: Anteil des Handeslvolumens als Prozentsatz des gesamten Volumens in dieser Kategorie | C10: Anteil der ausgeführten Aufträge als Prozentsatz aller Aufträge in dieser Kategorie | D10: Prozentsatz passiver Aufträge | E10: Prozentsatz aggressiver Aufträge | F10: Prozentsatz gelenkter Aufträge
A11: n/a | B11: 0 | C11: 0 | D11: 0 | E11: 0 | F11: 0

Sheet RTS28_P_Schuldtitel
A1: =RTS28_R_Aktienderivate!A1 -> Handelsvolumen der fünf wichtigsten Handelsplätze 2025
A3: Professionelle Kunden
A7: Kategorie des Finanzinstruments | B7: Schuldtitel
A8: Angabe, ob im Vorjahr im Durchschnitt <1 Handelsgeschäft pro Geschäftstag ausgeführt wurde | B8: Nein
A10: Die fünf Handelsplätze, die ausgehend vom Handelsvolumen am wichtigsten sind (in absteigender Reihenfolge nach Handelsvolumen) | B10: Anteil des Handeslvolumens als Prozentsatz des gesamten Volumens in dieser Kategorie | C10: Anteil der ausgeführten Aufträge als Prozentsatz aller Aufträge in dieser Kategorie | D10: Prozentsatz passiver Aufträge | E10: Prozentsatz aggressiver Aufträge | F10: Prozentsatz gelenkter Aufträge
A11: SIX Swiss Exchange (XSWX) | B11: 0.37866122 | C11: 0.24434824 | D11: 0.0011367188 | E11: 0.3775245 | F11: 0
A12: TRAX (XCOR) | B12: 0.024759567 | C12: 0.021404521 | D12: 0.002239311 | E12: 0.022520256 | F12: 0
A13: TRADEWEB EU BV - MTF (TWEM) | B13: 0.011726462 | C13: 0.014430014 | D13: 0.0018392247 | E13: 0.0098872368 | F13: 0
A14: BLOOMBERG TRADING FACILITY LIMITED (BMTF) | B14: 0.0021505746 | C14: 0.0045695046 | D14: 0.0019742651 | E14: 0.00017630956 | F14: 0
A15: OFF-EXCHANGE TRANSACTIONS - LISTED INSTRUMENTS (XOFF) | B15: 0.00083303553 | C15: 0.0016835017 | D15: 0.00060780059 | E15: 0.00022523494 | F15: 0

Sheet RTS28_P_Sonstige
A1: =RTS28_R_Aktienderivate!A1 -> Handelsvolumen der fünf wichtigsten Handelsplätze 2025
A3: Professionelle Kunden
A7: Kategorie des Finanzinstruments | B7: Sonstige Instrumente
A8: Angabe, ob im Vorjahr im Durchschnitt <1 Handelsgeschäft pro Geschäftstag ausgeführt wurde | B8: Nein
A10: Die fünf Handelsplätze, die ausgehend vom Handelsvolumen am wichtigsten sind (in absteigender Reihenfolge nach Handelsvolumen) | B10: Anteil des Handeslvolumens als Prozentsatz des gesamten Volumens in dieser Kategorie | C10: Anteil der ausgeführten Aufträge als Prozentsatz aller Aufträge in dieser Kategorie | D10: Prozentsatz passiver Aufträge | E10: Prozentsatz aggressiver Aufträge | F10: Prozentsatz gelenkter Aufträge
A11: NYSE Arca (ARCX) | B11: 0.1504071 | C11: 0.0061573985 | D11: 0.14816188 | E11: 0.0022452174 | F11: 0
A12: NYSE-CTA Cboe BZX U.S. Equities Exchange (BATS) | B12: 0.090090337 | C12: 0.0040407928 | D12: 0.089920932 | E12: 0.00016940448 | F12: 0
A13: UTP NYSE Arca (ARCX) | B13: 0.066362769 | C13: 0.0017317683 | D13: 0.066362769 | E13: 0 | F13: 0
A14: NASDAQ (XNAS) | B14: 0.045229758 | C14: 0.0073119107 | D14: 0.044222736 | E14: 0.0010070218 | F14: 0
A15: NYSE Arca, Listed Bonds (ARCX) | B15: 0.042428038 | C15: 0.009043679 | D15: 0.037957396 | E15: 0.0044706414 | F15: 0

Sheet RTS28_P_VerbriefteDerivate
A1: =RTS28_R_Aktienderivate!A1 -> Handelsvolumen der fünf wichtigsten Handelsplätze 2025
A3: Professionelle Kunden
A7: Kategorie des Finanzinstruments | B7: Verbriefte Derivate
A8: Angabe, ob im Vorjahr im Durchschnitt <1 Handelsgeschäft pro Geschäftstag ausgeführt wurde | B8: Ja
A10: Die fünf Handelsplätze, die ausgehend vom Handelsvolumen am wichtigsten sind (in absteigender Reihenfolge nach Handelsvolumen) | B10: Anteil des Handeslvolumens als Prozentsatz des gesamten Volumens in dieser Kategorie | C10: Anteil der ausgeführten Aufträge als Prozentsatz aller Aufträge in dieser Kategorie | D10: Prozentsatz passiver Aufträge | E10: Prozentsatz aggressiver Aufträge | F10: Prozentsatz gelenkter Aufträge
A11: Wiener Boerse AG (XWBO) | B11: 0.014400498 | C11: 0.058823529 | D11: 0.014400498 | E11: 0 | F11: 0
A12: SIX Swiss Exchange, Structured Products (XQMH) | B12: 0.0068417408 | C12: 0.17647059 | D12: 0.0041800867 | E12: 0.0026616541 | F12: 0
A13: Deutsche Boerse AG (XFRA) | B13: 0.0033098548 | C13: 0.058823529 | D13: 0.0033098548 | E13: 0 | F13: 0

Sheet RTS28_P_StrukturierteProduke
A1: =RTS28_R_Aktienderivate!A1 -> Handelsvolumen der fünf wichtigsten Handelsplätze 2025
A3: Professionelle Kunden
A7: Kategorie des Finanzinstruments | B7: Strukturierte Finanzprodukte
A8: Angabe, ob im Vorjahr im Durchschnitt <1 Handelsgeschäft pro Geschäftstag ausgeführt wurde | B8: Nein
A10: Die fünf Handelsplätze, die ausgehend vom Handelsvolumen am wichtigsten sind (in absteigender Reihenfolge nach Handelsvolumen) | B10: Anteil des Handeslvolumens als Prozentsatz des gesamten Volumens in dieser Kategorie | C10: Anteil der ausgeführten Aufträge als Prozentsatz aller Aufträge in dieser Kategorie | D10: Prozentsatz passiver Aufträge | E10: Prozentsatz aggressiver Aufträge | F10: Prozentsatz gelenkter Aufträge
A11: SIX Swiss Exchange (XSWX) | B11: 0.50063344 | C11: 0.239375 | D11: 0 | E11: 0.50063344 | F11: 0
A12: Over the Counter (XOFF) | B12: 0.066807685 | C12: 0.036875 | D12: 0.003013978 | E12: 0.063793707 | F12: 0
A13: TRAX (XCOR) | B13: 0.045003684 | C13: 0.02875 | D13: 0 | E13: 0.045003684 | F13: 0
A14: OFF-EXCHANGE TRANSACTIONS - LISTED INSTRUMENTS (XOFF) | B14: 0.018501183 | C14: 0.0125 | D14: 0.0044454977 | E14: 0.014055686 | F14: 0
A15: SIX Swiss Exchange, Structured Products (XQMH) | B15: 0.0055463874 | C15: 0.01125 | D15: 0 | E15: 0.0055463874 | F15: 0

Sheet RTS28_P_Zinsderivate
A1: =RTS28_R_Aktienderivate!A1 -> Handelsvolumen der fünf wichtigsten Handelsplätze 2025
A3: Professionelle Kunden
A7: Kategorie des Finanzinstruments | B7: Zinsderivate
A8: Angabe, ob im Vorjahr im Durchschnitt <1 Handelsgeschäft pro Geschäftstag ausgeführt wurde | B8: Ja
A10: Die fünf Handelsplätze, die ausgehend vom Handelsvolumen am wichtigsten sind (in absteigender Reihenfolge nach Handelsvolumen) | B10: Anteil des Handeslvolumens als Prozentsatz des gesamten Volumens in dieser Kategorie | C10: Anteil der ausgeführten Aufträge als Prozentsatz aller Aufträge in dieser Kategorie | D10: Prozentsatz passiver Aufträge | E10: Prozentsatz aggressiver Aufträge | F10: Prozentsatz gelenkter Aufträge
A11: n/a | B11: 0 | C11: 0 | D11: 0 | E11: 0 | F11: 0

Sheet RTS28_P_Währungsderivate
A1: =RTS28_R_Aktienderivate!A1 -> Handelsvolumen der fünf wichtigsten Handelsplätze 2025
A3: Professionelle Kunden
A7: Kategorie des Finanzinstruments | B7: Währungsderivate
A8: Angabe, ob im Vorjahr im Durchschnitt <1 Handelsgeschäft pro Geschäftstag ausgeführt wurde | B8: Nein
A10: Die fünf Handelsplätze, die ausgehend vom Handelsvolumen am wichtigsten sind (in absteigender Reihenfolge nach Handelsvolumen) | B10: Anteil des Handeslvolumens als Prozentsatz des gesamten Volumens in dieser Kategorie | C10: Anteil der ausgeführten Aufträge als Prozentsatz aller Aufträge in dieser Kategorie | D10: Prozentsatz passiver Aufträge | E10: Prozentsatz aggressiver Aufträge | F10: Prozentsatz gelenkter Aufträge
A11: Kaiser Partner Privatbank AG (529900DPOQPLDSF3R482) | B11: 0.69144552 | C11: 0.16906554 | D11: 0 | E11: 1 | F11: 0

Sheet RTS28_T_Aktienderivate
A1: =RTS28_R_Aktienderivate!A1 -> Handelsvolumen der fünf wichtigsten Handelsplätze 2025
A7: Kategorie des Finanzinstruments | B7: Aktienderivate
A8: Angabe, ob im Vorjahr im Durchschnitt <1 Handelsgeschäft pro Geschäftstag ausgeführt wurde | B8: Nein
A10: Die fünf Handelsplätze, die ausgehend vom Handelsvolumen am wichtigsten sind (in absteigender Reihenfolge nach Handelsvolumen) | B10: Anteil des Handeslvolumens als Prozentsatz des gesamten Volumens in dieser Kategorie | C10: Anteil der ausgeführten Aufträge als Prozentsatz aller Aufträge in dieser Kategorie
A11: Eurex Frankfurt AG (XEUR) | B11: 0.59438692 | C11: 0.25361156
A12: Options Price Reporting Authority (OPRA) | B12: 0.40533484 | C12: 0.74478331
A13: Hong Kong Stock Exchange, Options (XHKG) | B13: 0.00027824303 | C13: 0.0016051364

Sheet RTS28_T_Eigenkapitalinstrumente
A1: =RTS28_R_Aktienderivate!A1 -> Handelsvolumen der fünf wichtigsten Handelsplätze 2025
A7: Kategorie des Finanzinstruments | B7: Eigenkapitalinstrumente
A8: Angabe, ob im Vorjahr im Durchschnitt <1 Handelsgeschäft pro Geschäftstag ausgeführt wurde | B8: Nein
A10: Die fünf Handelsplätze, die ausgehend vom Handelsvolumen am wichtigsten sind (in absteigender Reihenfolge nach Handelsvolumen) | B10: Anteil des Handeslvolumens als Prozentsatz des gesamten Volumens in dieser Kategorie | C10: Anteil der ausgeführten Aufträge als Prozentsatz aller Aufträge in dieser Kategorie
A11: NASDAQ (XNAS) | B11: 0.36940135 | C11: 0.10680283
A12: SIX Swiss Exchange (XSWX) | B12: 0.15957022 | C12: 0.32808661
A13: New York Stock Exchange, Inc (XNYS) | B13: 0.12584264 | C13: 0.11824324
A14: NASDAQ-UTP Cboe EDGX U.S. Equities Exchange (EDGX) | B14: 0.043869575 | C14: 0.0052211302
A15: Xetra (XETR) | B15: 0.037317209 | C15: 0.066339066

Sheet RTS28_T_Rohstoffderivate
A1: =RTS28_R_Aktienderivate!A1 -> Handelsvolumen der fünf wichtigsten Handelsplätze 2025
A7: Kategorie des Finanzinstruments | B7: Rohstoffderivate
A8: Angabe, ob im Vorjahr im Durchschnitt <1 Handelsgeschäft pro Geschäftstag ausgeführt wurde | B8: Ja
A10: Die fünf Handelsplätze, die ausgehend vom Handelsvolumen am wichtigsten sind (in absteigender Reihenfolge nach Handelsvolumen) | B10: Anteil des Handeslvolumens als Prozentsatz des gesamten Volumens in dieser Kategorie | C10: Anteil der ausgeführten Aufträge als Prozentsatz aller Aufträge in dieser Kategorie
A11: n/a | B11: 0 | C11: 0

Sheet RTS28_T_Schuldtitel
A1: =RTS28_R_Aktienderivate!A1 -> Handelsvolumen der fünf wichtigsten Handelsplätze 2025
A7: Kategorie des Finanzinstruments | B7: Schuldtitel
A8: Angabe, ob im Vorjahr im Durchschnitt <1 Handelsgeschäft pro Geschäftstag ausgeführt wurde | B8: Nein
A10: Die fünf Handelsplätze, die ausgehend vom Handelsvolumen am wichtigsten sind (in absteigender Reihenfolge nach Handelsvolumen) | B10: Anteil des Handeslvolumens als Prozentsatz des gesamten Volumens in dieser Kategorie | C10: Anteil der ausgeführten Aufträge als Prozentsatz aller Aufträge in dieser Kategorie
A11: SIX Swiss Exchange (XSWX) | B11: 0.68811413 | C11: 0.46416546
A12: TRADEWEB EU BV - MTF (TWEM) | B12: 0.15297489 | C12: 0.28451178
A13: TRAX (XCOR) | B13: 0.12738788 | C13: 0.17484367
A14: BLOOMBERG TRADING FACILITY LIMITED (BMTF) | B14: 0.017952253 | C14: 0.039201539
A15: Over the Counter (XOFF) | B15: 0.0053918751 | C15: 0.0012025012

Sheet RTS28_T_Sonstige
A1: =RTS28_R_Aktienderivate!A1 -> Handelsvolumen der fünf wichtigsten Handelsplätze 2025
A7: Kategorie des Finanzinstruments | B7: Sonstige Instrumente
A8: Angabe, ob im Vorjahr im Durchschnitt <1 Handelsgeschäft pro Geschäftstag ausgeführt wurde | B8: Nein
A10: Die fünf Handelsplätze, die ausgehend vom Handelsvolumen am wichtigsten sind (in absteigender Reihenfolge nach Handelsvolumen) | B10: Anteil des Handeslvolumens als Prozentsatz des gesamten Volumens in dieser Kategorie | C10: Anteil der ausgeführten Aufträge als Prozentsatz aller Aufträge in dieser Kategorie
A11: NYSE Arca (ARCX) | B11: 0.23791521 | C11: 0.068501058
A12: NYSE-CTA Cboe BZX U.S. Equities Exchange (BATS) | B12: 0.097473062 | C12: 0.022512988
A13: NASDAQ (XNAS) | B13: 0.097004776 | C13: 0.096786608
A14: NYSE Arca, Listed Bonds (ARCX) | B14: 0.087626909 | C14: 0.094670002
A15: Tradeweb Europe Limited (TREU) | B15: 0.080977499 | C15: 0.14566096

Sheet RTS28_T_VerbriefteDerivate
A1: =RTS28_R_Aktienderivate!A1 -> Handelsvolumen der fünf wichtigsten Handelsplätze 2025
A7: Kategorie des Finanzinstruments | B7: Verbriefte Derivate
A8: Angabe, ob im Vorjahr im Durchschnitt <1 Handelsgeschäft pro Geschäftstag ausgeführt wurde | B8: Ja
A10: Die fünf Handelsplätze, die ausgehend vom Handelsvolumen am wichtigsten sind (in absteigender Reihenfolge nach Handelsvolumen) | B10: Anteil des Handeslvolumens als Prozentsatz des gesamten Volumens in dieser Kategorie | C10: Anteil der ausgeführten Aufträge als Prozentsatz aller Aufträge in dieser Kategorie
A11: New York Stock Exchange, Inc (XNYS) | B11: 0.90251584 | C11: 0.41176471
A12: Over the Counter (XOFF) | B12: 0.072932066 | C12: 0.29411765
A13: Wiener Boerse AG (XWBO) | B13: 0.014400498 | C13: 0.058823529
A14: SIX Swiss Exchange, Structured Products (XQMH) | B14: 0.0068417408 | C14: 0.17647059
A15: Deutsche Boerse AG (XFRA) | B15: 0.0033098548 | C15: 0.058823529

Sheet RTS28_T_StrukturierteProdukte
A1: =RTS28_R_Aktienderivate!A1 -> Handelsvolumen der fünf wichtigsten Handelsplätze 2025
A7: Kategorie des Finanzinstruments | B7: Strukturierte Finanzprodukte
A8: Angabe, ob im Vorjahr im Durchschnitt <1 Handelsgeschäft pro Geschäftstag ausgeführt wurde | B8: Nein
A10: Die fünf Handelsplätze, die ausgehend vom Handelsvolumen am wichtigsten sind (in absteigender Reihenfolge nach Handelsvolumen) | B10: Anteil des Handeslvolumens als Prozentsatz des gesamten Volumens in dieser Kategorie | C10: Anteil der ausgeführten Aufträge als Prozentsatz aller Aufträge in dieser Kategorie
A11: SIX Swiss Exchange (XSWX) | B11: 0.64058562 | C11: 0.43375
A12: Over the Counter (XOFF) | B12: 0.16889154 | C12: 0.251875
A13: TRAX (XCOR) | B13: 0.077334294 | C13: 0.06
A14: OFF-EXCHANGE TRANSACTIONS - LISTED INSTRUMENTS (XOFF) | B14: 0.048910554 | C14: 0.1025
A15: Wiener Boerse AG (XWBO) | B15: 0.012476747 | C15: 0.009375

Sheet RTS28_T_Zinsderivate
A1: =RTS28_R_Aktienderivate!A1 -> Handelsvolumen der fünf wichtigsten Handelsplätze 2025
A7: Kategorie des Finanzinstruments | B7: Zinsderivate
A8: Angabe, ob im Vorjahr im Durchschnitt <1 Handelsgeschäft pro Geschäftstag ausgeführt wurde | B8: Ja
A10: Die fünf Handelsplätze, die ausgehend vom Handelsvolumen am wichtigsten sind (in absteigender Reihenfolge nach Handelsvolumen) | B10: Anteil des Handeslvolumens als Prozentsatz des gesamten Volumens in dieser Kategorie | C10: Anteil der ausgeführten Aufträge als Prozentsatz aller Aufträge in dieser Kategorie
A11: n/a | B11: 0 | C11: 0

Sheet RTS28_T_Währungsderivate
A1: =RTS28_R_Aktienderivate!A1 -> Handelsvolumen der fünf wichtigsten Handelsplätze 2025
A7: Kategorie des Finanzinstruments | B7: Währungsderivate
A8: Angabe, ob im Vorjahr im Durchschnitt <1 Handelsgeschäft pro Geschäftstag ausgeführt wurde | B8: Nein
A10: Die fünf Handelsplätze, die ausgehend vom Handelsvolumen am wichtigsten sind (in absteigender Reihenfolge nach Handelsvolumen) | B10: Anteil des Handeslvolumens als Prozentsatz des gesamten Volumens in dieser Kategorie | C10: Anteil der ausgeführten Aufträge als Prozentsatz aller Aufträge in dieser Kategorie
A11: Kaiser Partner Privatbank AG (529900DPOQPLDSF3R482) | B11: 1 | C11: 1
